BEGIN:VCALENDAR
VERSION:2.0
PRODID:-//Sharper Tennis Coaching Perth - ECPv6.15.20//NONSGML v1.0//EN
CALSCALE:GREGORIAN
METHOD:PUBLISH
X-WR-CALNAME:Sharper Tennis Coaching Perth
X-ORIGINAL-URL:https://sharpertennis.com.au
X-WR-CALDESC:Events for Sharper Tennis Coaching Perth
REFRESH-INTERVAL;VALUE=DURATION:PT1H
X-Robots-Tag:noindex
X-PUBLISHED-TTL:PT1H
BEGIN:VTIMEZONE
TZID:Australia/Perth
BEGIN:STANDARD
TZOFFSETFROM:+0800
TZOFFSETTO:+0800
TZNAME:AWST
DTSTART:20210101T000000
END:STANDARD
END:VTIMEZONE
BEGIN:VEVENT
DTSTART;TZID=Australia/Perth:20220704T080000
DTEND;TZID=Australia/Perth:20220704T110000
DTSTAMP:20260426T025808
CREATED:20220617T061214Z
LAST-MODIFIED:20220617T062233Z
UID:1288-1656921600-1656932400@sharpertennis.com.au
SUMMARY:High Performance Yellow Match Play
DESCRIPTION:Delivered by Simon Harper and James Sekulov on the red clay courts at UWA Tennis Club\, these sessions are for those players actively competing in club-based competitions and tournaments and will focus heavily on tactics and strategy within match play\, tennis-specific fitness training\, footwork and movement\, and scenario-based drills and gameplay. \nThe three overall components of being a competition or tournament player:\n• Build better weapons than your opponent.\n• Use your weapons effectively.\n• Use your weapons consistently. \nGet tournament ready and hone your skills for SHARPER TENNIS!
URL:https://sharpertennis.com.au/event/high-performance-yellow-match-play/
LOCATION:UWA Tennis Club\, 10 McGillivray Rd\, Mount Claremont\, Perth\, WA\, 6010\, Australia
ATTACH;FMTTYPE=image/jpeg:https://sharpertennis.com.au/wp-content/uploads/2021/11/clay-court-pic-2.jpg
ORGANIZER;CN="Angie Harper":MAILTO:info@sharpertennis.com.au
END:VEVENT
BEGIN:VEVENT
DTSTART;TZID=Australia/Perth:20220706T083000
DTEND;TZID=Australia/Perth:20220706T113000
DTSTAMP:20260426T025808
CREATED:20220616T080054Z
LAST-MODIFIED:20220616T081506Z
UID:1280-1657096200-1657107000@sharpertennis.com.au
SUMMARY:Book Here Tennis Holiday Camps 6th July 2022
DESCRIPTION:Get your tennis shoes on at UWA Tennis Club junior tennis holiday camps!\nOur action-packed tennis holiday camps are filled with team games\, tennis drills\, matches\, and even the ‘Sharper Tennis Fun Quiz’! \nOur varied tennis holiday camp has something for everyone. Group warm-ups\, Shot training\, Individual Challenges\, and team games.  Will it be Swedish Netball\, Dodgeball\, Tennis Hockey\, or Skittles today? \nScore points for your team\, and make great friends along the way. Activities are divided into ability groups\, and all players aged from 5-13 are welcome. \nOur TA & ATPCA qualified coaches will keep track of individual progress\, and huge improvements can be made fast as players hit lots of balls.  Prizes are awarded for effort and achievements throughout the camps. \nRemember to bring morning tea\, a hat\, and a water bottle- We will provide all equipment and all the FUN! \n \n\n 
URL:https://sharpertennis.com.au/event/book-here-tennis-holiday-camps-6th-13th-july-2022/
LOCATION:UWA Tennis Club\, 10 McGillivray Rd\, Mount Claremont\, Perth\, WA\, 6010\, Australia
ATTACH;FMTTYPE=image/jpeg:https://sharpertennis.com.au/wp-content/uploads/2021/09/UWA-Holiday-Camp.jpg
ORGANIZER;CN="Angie Harper":MAILTO:info@sharpertennis.com.au
END:VEVENT
BEGIN:VEVENT
DTSTART;TZID=Australia/Perth:20220708T080000
DTEND;TZID=Australia/Perth:20220708T110000
DTSTAMP:20260426T025808
CREATED:20220617T062154Z
LAST-MODIFIED:20220617T062154Z
UID:1291-1657267200-1657278000@sharpertennis.com.au
SUMMARY:High Performnace Yellow Match Play
DESCRIPTION:Delivered by Simon Harper and James Sekulov on the red clay courts at UWA Tennis Club\, these sessions are for those players actively competing in club-based competitions and tournaments and will focus heavily on tactics and strategy within match play\, tennis-specific fitness training\, footwork and movement\, and scenario-based drills and gameplay. \nThe three overall components of being a competition or tournament player:\n• Build better weapons than your opponent.\n• Use your weapons effectively.\n• Use your weapons consistently. \nGet tournament ready and hone your skills for SHARPER TENNIS!
URL:https://sharpertennis.com.au/event/high-performnace-yellow-match-play/
LOCATION:UWA Tennis Club\, 10 McGillivray Rd\, Mount Claremont\, Perth\, WA\, 6010\, Australia
ATTACH;FMTTYPE=image/jpeg:https://sharpertennis.com.au/wp-content/uploads/2022/06/Red-Clay-Racquet.jpg
ORGANIZER;CN="Angie Harper":MAILTO:info@sharpertennis.com.au
END:VEVENT
BEGIN:VEVENT
DTSTART;TZID=Australia/Perth:20220713T083000
DTEND;TZID=Australia/Perth:20220713T113000
DTSTAMP:20260426T025808
CREATED:20220616T081318Z
LAST-MODIFIED:20220616T091105Z
UID:1285-1657701000-1657711800@sharpertennis.com.au
SUMMARY:Book Here Tennis Holiday Camps 13th July 2022
DESCRIPTION:Get your tennis shoes on at UWA Tennis Club junior tennis holiday camps!\nOur action-packed tennis holiday camps are filled with team games\, tennis drills\, matches\, and even the ‘Sharper Tennis Fun Quiz’! \nOur varied tennis holiday camp has something for everyone. Group warm-ups\, Shot training\, Individual Challenges\, and team games.  Will it be Swedish Netball\, Dodgeball\, Tennis Hockey\, or Skittles today? \nScore points for your team\, and make great friends along the way. Activities are divided into ability groups\, and all players aged from 5-13 are welcome. \nOur TA & ATPCA qualified coaches will keep track of individual progress\, and huge improvements can be made fast as players hit lots of balls.  Prizes are awarded for effort and achievements throughout the camps. \nRemember to bring morning tea\, a hat\, and a water bottle- We will provide all equipment and all the FUN! \n \n\n 
URL:https://sharpertennis.com.au/event/book-here-tennis-holiday-camps/
LOCATION:UWA Tennis Club\, 10 McGillivray Rd\, Mount Claremont\, Perth\, WA\, 6010\, Australia
ATTACH;FMTTYPE=image/jpeg:https://sharpertennis.com.au/wp-content/uploads/2022/06/Holiday-Camp-Grass.jpg
ORGANIZER;CN="Angie Harper":MAILTO:info@sharpertennis.com.au
END:VEVENT
END:VCALENDAR