BEGIN:VCALENDAR
VERSION:2.0
PRODID:-//Sharper Tennis Coaching Perth - ECPv6.15.20//NONSGML v1.0//EN
CALSCALE:GREGORIAN
METHOD:PUBLISH
X-ORIGINAL-URL:https://sharpertennis.com.au
X-WR-CALDESC:Events for Sharper Tennis Coaching Perth
REFRESH-INTERVAL;VALUE=DURATION:PT1H
X-Robots-Tag:noindex
X-PUBLISHED-TTL:PT1H
BEGIN:VTIMEZONE
TZID:Australia/Perth
BEGIN:STANDARD
TZOFFSETFROM:+0800
TZOFFSETTO:+0800
TZNAME:AWST
DTSTART:20210101T000000
END:STANDARD
END:VTIMEZONE
BEGIN:VEVENT
DTSTART;TZID=Australia/Perth:20220409T083000
DTEND;TZID=Australia/Perth:20220411T143000
DTSTAMP:20260425T230924
CREATED:20220316T061951Z
LAST-MODIFIED:20220316T062112Z
UID:1226-1649493000-1649687400@sharpertennis.com.au
SUMMARY:2022 Clay Court Junior Slide
DESCRIPTION:Saturday 9th April–Monday 11th April 2022– UWA Clay Court Junior Slide \nWe are extremely pleased to announce the inaugural Clay Court Junior Tournament which takes place at UWA Tennis Club on the ONLY red European clay courts in WA. \nThis event is suitable for players aged 14 & U with a UTR of between 1-7.5 and is ideal for match practice on the clay. It is NOT a beginner tournament. \nEvents: Boys Singles & Doubles/ Girls Singles & Doubles/ Green Ball Mixed Singles & Doubles. \nENTER HERE
URL:https://sharpertennis.com.au/event/2022-clay-court-junior-slide/
LOCATION:UWA Tennis Club\, 10 McGillivray Rd\, Mount Claremont\, Perth\, WA\, 6010\, Australia
ATTACH;FMTTYPE=image/jpeg:https://sharpertennis.com.au/wp-content/uploads/2022/03/Clay-Court-Slide-Poster.jpg
ORGANIZER;CN="Angie Harper":MAILTO:info@sharpertennis.com.au
END:VEVENT
BEGIN:VEVENT
DTSTART;TZID=Australia/Perth:20220413T083000
DTEND;TZID=Australia/Perth:20220413T233000
DTSTAMP:20260425T230924
CREATED:20220316T054545Z
LAST-MODIFIED:20220316T054803Z
UID:1220-1649838600-1649892600@sharpertennis.com.au
SUMMARY:Book Here Tennis Holiday Camps 13th & 14th April
DESCRIPTION:Get your tennis shoes on at UWA Tennis Club junior tennis holiday camps!\nOur action-packed tennis holiday camps are filled with team games\, tennis drills\, matches\, and even the ‘Sharper Tennis Fun Quiz’! \nOur varied tennis holiday camp has something for everyone. Group warm-ups\, Shot training\, Individual Challenges\, and team games.  Will it be Swedish Netball\, Dodgeball\, Tennis Hockey\, or Skittles today? \nScore points for your team\, and make great friends along the way. Activities are divided into ability groups\, and all players aged from 5-13 are welcome. \nOur TA & ATPCA qualified coaches will keep track of individual progress\, and huge improvements can be made fast as players hit lots of balls.  Prizes are awarded for effort and achievements throughout the camps. \nRemember to bring morning tea\, a hat\, and a water bottle- We will provide all equipment and all the FUN!
URL:https://sharpertennis.com.au/event/tennis-holiday-camps/
LOCATION:UWA Tennis Club\, 10 McGillivray Rd\, Mount Claremont\, Perth\, WA\, 6010\, Australia
ATTACH;FMTTYPE=image/jpeg:https://sharpertennis.com.au/wp-content/uploads/2021/09/UWA-Holiday-Camp.jpg
ORGANIZER;CN="Angie Harper":MAILTO:info@sharpertennis.com.au
END:VEVENT
END:VCALENDAR