BEGIN:VCALENDAR
VERSION:2.0
PRODID:-//Sharper Tennis Coaching Perth - ECPv6.15.20//NONSGML v1.0//EN
CALSCALE:GREGORIAN
METHOD:PUBLISH
X-ORIGINAL-URL:https://sharpertennis.com.au
X-WR-CALDESC:Events for Sharper Tennis Coaching Perth
REFRESH-INTERVAL;VALUE=DURATION:PT1H
X-Robots-Tag:noindex
X-PUBLISHED-TTL:PT1H
BEGIN:VTIMEZONE
TZID:Australia/Perth
BEGIN:STANDARD
TZOFFSETFROM:+0800
TZOFFSETTO:+0800
TZNAME:AWST
DTSTART:20190101T000000
END:STANDARD
END:VTIMEZONE
BEGIN:VEVENT
DTSTART;TZID=Australia/Perth:20200919T090000
DTEND;TZID=Australia/Perth:20200919T130000
DTSTAMP:20260425T062637
CREATED:20200803T070451Z
LAST-MODIFIED:20200901T082559Z
UID:833-1600506000-1600520400@sharpertennis.com.au
SUMMARY:T3 Junior Challenge Tournament
DESCRIPTION:The Term 3 Junior Challenge event will be held at UWA TC with matches being played on both grass and clay! \nOur termly Junior Challenge competitions are for players just starting out with competitive play and are a great opportunity to put into practise all they are learning in their regular squad sessions in a fun and relaxed environment. \nNon-members are very welcome. \nTo enter all players MUST be able to rally consistently and understand tournament rules.\nIf you are unsure please check with your coaching provider or call 0424909083. \nAll events will be Round Robin for guaranteed matchplay.\nRED: Sign in from 9am- First to 10 points\nORANGE: Sign in from 10am- First to 10 points\nGREEN: Sign in from 9am- 1 x FAST FOUR set\nYELLOW: Sign in from 10am- 1 x FAST FOUR set \n \n\n 
URL:https://sharpertennis.com.au/event/t3-junior-challenge-tournament/
LOCATION:UWA Tennis Club\, 10 McGillivray Rd\, Mount Claremont\, Perth\, WA\, 6010\, Australia
ORGANIZER;CN="Angie Harper":MAILTO:info@sharpertennis.com.au
END:VEVENT
BEGIN:VEVENT
DTSTART;TZID=Australia/Perth:20200929T090000
DTEND;TZID=Australia/Perth:20200929T120000
DTSTAMP:20260425T062637
CREATED:20200625T100036Z
LAST-MODIFIED:20200909T105102Z
UID:825-1601370000-1601380800@sharpertennis.com.au
SUMMARY:Sharper Tennis Holiday Camp!
DESCRIPTION:Book the kids in for our Sharper Tennis Holiday Camp and breathe easy! \nLet us keep them occupied whilst improving their tennis skills or learning a new sport. We cater for ALL abilities but our holiday camps are most suitable for kids aged 5-14 years old. \nTuesday 29th September to Friday 2nd October from  9am-12pm $40 + GST per day or $140 + GST for all four days. \nAlways lots of fun with tennis drills\, competitions and games and morning tea is included. \n 
URL:https://sharpertennis.com.au/event/sharper-tennis-holiday-camp-2/
LOCATION:John XXIII College\, John XXIII Avenue\, Mt Claremont\, Perth\, WA\, 6010\, Australia
ORGANIZER;CN="Angie Harper":MAILTO:info@sharpertennis.com.au
END:VEVENT
BEGIN:VEVENT
DTSTART;TZID=Australia/Perth:20200930T090000
DTEND;TZID=Australia/Perth:20200930T120000
DTSTAMP:20260425T062637
CREATED:20200901T081934Z
LAST-MODIFIED:20200909T105208Z
UID:864-1601456400-1601467200@sharpertennis.com.au
SUMMARY:Sharper Tennis Holiday Camp!
DESCRIPTION:Book the kids in for our Sharper Tennis Holiday Camp and breathe easy! \nLet us keep them occupied whilst improving their tennis skills or learning a new sport. We cater for ALL abilities but our holiday camps are most suitable for kids aged 5-14 years old. \nTuesday 29th September to Friday 2nd October from  9am-12pm $40 + GST per day or $140 + GST for all four days. \nAlways lots of fun with tennis drills\, competitions and games and morning tea is included.
URL:https://sharpertennis.com.au/event/sharper-tennis-holiday-camp-3/
LOCATION:John XXIII College\, John XXIII Avenue\, Mt Claremont\, Perth\, WA\, 6010\, Australia
ORGANIZER;CN="Angie Harper":MAILTO:info@sharpertennis.com.au
END:VEVENT
END:VCALENDAR