BEGIN:VCALENDAR
VERSION:2.0
PRODID:-//Sharper Tennis Coaching Perth - ECPv6.15.20//NONSGML v1.0//EN
CALSCALE:GREGORIAN
METHOD:PUBLISH
X-WR-CALNAME:Sharper Tennis Coaching Perth
X-ORIGINAL-URL:https://sharpertennis.com.au
X-WR-CALDESC:Events for Sharper Tennis Coaching Perth
REFRESH-INTERVAL;VALUE=DURATION:PT1H
X-Robots-Tag:noindex
X-PUBLISHED-TTL:PT1H
BEGIN:VTIMEZONE
TZID:Australia/Perth
BEGIN:STANDARD
TZOFFSETFROM:+0800
TZOFFSETTO:+0800
TZNAME:AWST
DTSTART:20210101T000000
END:STANDARD
END:VTIMEZONE
BEGIN:VEVENT
DTSTART;TZID=Australia/Perth:20221219T083000
DTEND;TZID=Australia/Perth:20221220T113000
DTSTAMP:20260426T003528
CREATED:20221103T061457Z
LAST-MODIFIED:20221103T062926Z
UID:1351-1671438600-1671535800@sharpertennis.com.au
SUMMARY:December 2022 Holiday Camps
DESCRIPTION:Get your tennis shoes on at UWA Tennis Club junior tennis holiday camps!\nOur action-packed tennis holiday camps are filled with team games\, tennis drills\, matches\, and even the ‘Sharper Tennis Fun Quiz’! \nOur varied tennis holiday camp has something for everyone. Group warm-ups\, Shot training\, Individual Challenges\, and team games.  Will it be Swedish Netball\, Dodgeball\, Tennis Hockey\, or Skittles today? \nScore points for your team\, and make great friends along the way. Activities are divided into ability groups\, and all players aged 5-13 are welcome. \nOur TA & ATPCA qualified coaches will keep track of individual progress\, and huge improvements can be made fast as players hit lots of balls.  Prizes are awarded for effort and achievements throughout the camps. \nRemember to bring morning tea\, a hat\, and a water bottle- We will provide all equipment and all the FUN!
URL:https://sharpertennis.com.au/event/december-2022-holiday-camps/
LOCATION:UWA Tennis Club\, 10 McGillivray Rd\, Mount Claremont\, Perth\, WA\, 6010\, Australia
ATTACH;FMTTYPE=image/jpeg:https://sharpertennis.com.au/wp-content/uploads/2022/06/Holiday-Camp-Grass.jpg
ORGANIZER;CN="Angie Harper":MAILTO:info@sharpertennis.com.au
END:VEVENT
BEGIN:VEVENT
DTSTART;TZID=Australia/Perth:20230110T083000
DTEND;TZID=Australia/Perth:20230112T113000
DTSTAMP:20260426T003528
CREATED:20221103T061834Z
LAST-MODIFIED:20221103T063118Z
UID:1353-1673339400-1673523000@sharpertennis.com.au
SUMMARY:January 2023 Holiday Camps
DESCRIPTION:Get your tennis shoes on at UWA Tennis Club junior tennis holiday camps!\nOur action-packed tennis holiday camps are filled with team games\, tennis drills\, matches\, and even the ‘Sharper Tennis Fun Quiz’! \nOur varied tennis holiday camp has something for everyone. Group warm-ups\, Shot training\, Individual Challenges\, and team games.  Will it be Swedish Netball\, Dodgeball\, Tennis Hockey\, or Skittles today? \nScore points for your team\, and make great friends along the way. Activities are divided into ability groups\, and all players aged 5-13 are welcome. \nOur TA & ATPCA qualified coaches will keep track of individual progress\, and huge improvements can be made fast as players hit lots of balls.  Prizes are awarded for effort and achievements throughout the camps. \nRemember to bring morning tea\, a hat\, and a water bottle- We will provide all equipment and all the FUN!
URL:https://sharpertennis.com.au/event/january-2023-holiday-camps/
LOCATION:UWA Tennis Club\, 10 McGillivray Rd\, Mount Claremont\, Perth\, WA\, 6010\, Australia
ATTACH;FMTTYPE=image/jpeg:https://sharpertennis.com.au/wp-content/uploads/2021/09/UWA-Holiday-Camp.jpg
ORGANIZER;CN="Angie Harper":MAILTO:info@sharpertennis.com.au
END:VEVENT
BEGIN:VEVENT
DTSTART;TZID=Australia/Perth:20230125T083000
DTEND;TZID=Australia/Perth:20230125T113000
DTSTAMP:20260426T003528
CREATED:20221103T065754Z
LAST-MODIFIED:20221211T113157Z
UID:1357-1674635400-1674646200@sharpertennis.com.au
SUMMARY:Competitive Yellow Game Play
DESCRIPTION:Delivered by Simon Harper\, this RED CLAY tennis training session is for those players actively competing in club-based YELLOW BALL competitions and tournaments and will focus heavily on tactics and strategy within match play. \nComponents of being a competition or tournament player:\n• Build better weapons than your opponent.\n• Use your weapons effectively.\n• Use your weapons consistently. \nHONE YOUR SKILLS FOR SHARPER TENNIS!
URL:https://sharpertennis.com.au/event/competitive-yellow-game-play/
LOCATION:UWA Tennis Club\, 10 McGillivray Rd\, Mount Claremont\, Perth\, WA\, 6010\, Australia
ATTACH;FMTTYPE=image/jpeg:https://sharpertennis.com.au/wp-content/uploads/2021/11/clay-court-pic-2.jpg
ORGANIZER;CN="Simon Harper":MAILTO:info@sharpertennis.com.au
END:VEVENT
BEGIN:VEVENT
DTSTART;TZID=Australia/Perth:20230406T163000
DTEND;TZID=Australia/Perth:20230408T140000
DTSTAMP:20260426T003528
CREATED:20230223T094416Z
LAST-MODIFIED:20240409T043754Z
UID:1388-1680798600-1680962400@sharpertennis.com.au
SUMMARY:UWA Clay Court Junior Slide 2023
DESCRIPTION:This tournament is a verified UTR event\, suitable for EXPERIENCED players only and offers substantial match play on the only European-style red clay courts in WA. \nEvents:\n13/U Girls Singles 3+ UTR\n13/U Boys Singles 3.5+ UTR\n16/U Girls Singles 5.5+ UTR\n16/U Boys Singles 5.5+ UTR \nEvents are capped at 16 players. \nCompass draws with a minimum of 2 matches and all matches played on European-style RED CLAY. \nTable Tennis\, board games and lawn games will be available for off-court fun for all the family and you are welcome to bring a picnic and enjoy our beautiful bush setting in the heart of the western suburbs of Perth just behind the HBF Stadium in Mt Claremont. \nEnter Here
URL:https://sharpertennis.com.au/event/uwa-clay-court-junior-slide-2023/
LOCATION:UWA Tennis Club\, 10 McGillivray Rd\, Mount Claremont\, Perth\, WA\, 6010\, Australia
ORGANIZER;CN="Angie Harper":MAILTO:info@sharpertennis.com.au
END:VEVENT
BEGIN:VEVENT
DTSTART;TZID=Australia/Perth:20230412T083000
DTEND;TZID=Australia/Perth:20230412T113000
DTSTAMP:20260426T003528
CREATED:20230223T095512Z
LAST-MODIFIED:20230223T095512Z
UID:1396-1681288200-1681299000@sharpertennis.com.au
SUMMARY:Competitive Yellow Match Play (12-18 Years)
DESCRIPTION:Delivered by Simon Harper\, this RED CLAY session is for those players actively competing in club-based YELLOW BALL competitions and tournaments and will focus heavily on tactics and strategy within match play. \nComponents of being a competition or tournament player: \n• Build better weapons than your opponent. • Use your weapons effectively. • Use your weapons consistently. – \nSuitable for players aged 12-18 UTR’s 2-7 \nWe will group players based on their UTR/level to provide competitive matches and level-based play. \nImprove your rating! \nMinimum 2 Matches \nMatches will be 2 out of 3 FAST4 sets\, no AD-scoring\, 7 pt tiebreak at 3-3\, and 10 pt super tiebreaker in lieu of 3rd set. \nMorning tea provided. \nSIGN UP HERE
URL:https://sharpertennis.com.au/event/competitive-yellow-match-play-12-18-years/
LOCATION:UWA Tennis Club\, 10 McGillivray Rd\, Mount Claremont\, Perth\, WA\, 6010\, Australia
ATTACH;FMTTYPE=image/jpeg:https://sharpertennis.com.au/wp-content/uploads/2021/11/UWA-Courts-July-2021.jpg
ORGANIZER;CN="Angie Harper":MAILTO:info@sharpertennis.com.au
END:VEVENT
BEGIN:VEVENT
DTSTART;TZID=Australia/Perth:20230413T083000
DTEND;TZID=Australia/Perth:20230414T113000
DTSTAMP:20260426T003528
CREATED:20230330T041225Z
LAST-MODIFIED:20230330T041445Z
UID:1414-1681374600-1681471800@sharpertennis.com.au
SUMMARY:Book Here Easter Holiday Camps
DESCRIPTION:Our action-packed tennis holiday camps are filled with team games\, tennis drills\, matches\, and even the ‘Sharper Tennis Fun Quiz’! \nOur varied tennis holiday camp has something for everyone. Group warm-ups\, Shot training\, Individual Challenges\, and team games.  Will it be Swedish Netball\, Dodgeball\, Tennis Hockey\, or Skittles today? \nScore points for your team\, and make great friends along the way. Activities are divided into ability groups\, and all players aged from 5-13 are welcome. \nOur TA & ATPCA qualified coaches will keep track of individual progress\, and huge improvements can be made fast as players hit lots of balls.  Prizes are awarded for effort and achievements throughout the camps. \nRemember to bring morning tea\, a hat\, and a water bottle- We will provide all equipment and all the FUN! \nCome for one day or both!\nThursday 13th & Friday 14th April 2023\n8.30am-11.30am\n$40 per child per session \n \n\n  
URL:https://sharpertennis.com.au/event/book-here-easter-holiday-camps/
LOCATION:UWA Tennis Club\, 10 McGillivray Rd\, Mount Claremont\, Perth\, WA\, 6010\, Australia
ATTACH;FMTTYPE=image/jpeg:https://sharpertennis.com.au/wp-content/uploads/2021/12/fun-tennis-balls.jpg
ORGANIZER;CN="Angie Harper":MAILTO:info@sharpertennis.com.au
END:VEVENT
BEGIN:VEVENT
DTSTART;TZID=Australia/Perth:20230415T100000
DTEND;TZID=Australia/Perth:20230416T170000
DTSTAMP:20260426T003528
CREATED:20230223T095209Z
LAST-MODIFIED:20230223T095707Z
UID:1393-1681552800-1681664400@sharpertennis.com.au
SUMMARY:UWA Clay Court Open Slide 2023 (15+)
DESCRIPTION:We don’t just do Junior events-get involved for a chance to compete on the red clay in the inaugural UWA Open Slide! \nThe UWA Clay Court Open Slide is for players aged 15+ \nMatches played over two days- 15-16th April 2023 starting from 10am. \nMen’s Open- This division is for UTR 7+ players \nWomen’s Open- This division is for UTR 5+ players \nScoring: All divisions will be best 2/3 full sets with a 10-point tiebreak for the third set. \n2 x Matches guaranteed. No refunds 48 hours prior to the start of the event. Cash prizes. Bar open. \nEnter Here
URL:https://sharpertennis.com.au/event/uwa-clay-court-open-slide-2023/
LOCATION:UWA Tennis Club\, 10 McGillivray Rd\, Mount Claremont\, Perth\, WA\, 6010\, Australia
ATTACH;FMTTYPE=image/jpeg:https://sharpertennis.com.au/wp-content/uploads/2023/02/Arden-on-Clay.jpg
ORGANIZER;CN="Simon Harper":MAILTO:info@sharpertennis.com.au
END:VEVENT
BEGIN:VEVENT
DTSTART;TZID=Australia/Perth:20230710T090000
DTEND;TZID=Australia/Perth:20230710T140000
DTSTAMP:20260426T003528
CREATED:20230620T033539Z
LAST-MODIFIED:20230620T034336Z
UID:1434-1688979600-1688997600@sharpertennis.com.au
SUMMARY:UWA UTR-Verified Match Play: Monday 10th July 9AM - 2PM: 2 Singles Matches Best of 3 Full Sets Suitable 8-21 Years
DESCRIPTION:This event is for COMPETITIVE PLAYERS with a 2+ UTR \nWe will pair players based on their UTR/level to provide competitive matches and level-based play. Players MUST register to play- capped at 18 players only. First in first served. \nMinimum 2 x matches for all players. AGES: 8-21 \nDATE: Monday 10th June TIME: 9am-2pm \nFORMAT: BEST of THREE FULL SETS \nWITHDRAWAL: No refunds unless the event is cancelled. Parents will be contacted by text message if the event is cancelled by 7:30am on the day of the event. \nGames\, table tennis & more. Soft drinks will be available to purchase. \nBoost your Verified UTR Rating. All scores count towards Verified UTR. Play Hard- Play Often-Get Results! 💪👊 SIGN UP HERE
URL:https://sharpertennis.com.au/event/uwa-utr-verified-match-play-monday-10th-july-9am-2pm-2-singles-matches-best-of-3-full-sets/
LOCATION:UWA Tennis Club\, 10 McGillivray Rd\, Mount Claremont\, Perth\, WA\, 6010\, Australia
ATTACH;FMTTYPE=image/jpeg:https://sharpertennis.com.au/wp-content/uploads/2022/06/Red-Clay-Racquet.jpg
ORGANIZER;CN="Simon Harper":MAILTO:info@sharpertennis.com.au
END:VEVENT
BEGIN:VEVENT
DTSTART;TZID=Australia/Perth:20230712T083000
DTEND;TZID=Australia/Perth:20230712T113000
DTSTAMP:20260426T003528
CREATED:20230620T032746Z
LAST-MODIFIED:20230620T032917Z
UID:1430-1689150600-1689161400@sharpertennis.com.au
SUMMARY:Competitive Green & Yellow UTR-Verified Match Play & Coaching Workshop (8-18 Years)
DESCRIPTION:Delivered by Simon Harper\, this RED CLAY session is for those players actively competing in club-based GREEN or YELLOW BALL competitions and tournaments and will focus heavily on tactics and strategy within match play with coaching on court. \nComponents of being a competition or tournament player: \n• Build better weapons than your opponent. \n• Use your weapons effectively. \n• Use your weapons consistently. \nSuitable for players aged 8-18 UTR’s 1-9 \nWe will group players based on their UTR/level to provide competitive matches and level-based play. \nImprove your rating and hone your skills in this 3 hour session! \nMinimum 2 UTR-Verified Matches – Matches will be 2 out of 3 FAST4 sets\, no AD-scoring\, 7 pt tiebreak at 3-3\, and 10 pt super tiebreaker in lieu of 3rd set. \nWITHDRAWAL: No refunds unless the event is cancelled. Parents will be contacted by text message if the event is cancelled by 7:30am on the day of the event. \nSIGN UP HERE
URL:https://sharpertennis.com.au/event/competitive-green-yellow-utr-verified-match-play-coaching-workshop-8-18-years/
LOCATION:UWA Tennis Club\, 10 McGillivray Rd\, Mount Claremont\, Perth\, WA\, 6010\, Australia
ATTACH;FMTTYPE=image/jpeg:https://sharpertennis.com.au/wp-content/uploads/2021/11/UWA-Courts-July-2021.jpg
ORGANIZER;CN="Angie Harper":MAILTO:info@sharpertennis.com.au
END:VEVENT
BEGIN:VEVENT
DTSTART;TZID=Australia/Perth:20230713T083000
DTEND;TZID=Australia/Perth:20230713T113000
DTSTAMP:20260426T003528
CREATED:20230620T065822Z
LAST-MODIFIED:20230628T035812Z
UID:1445-1689237000-1689247800@sharpertennis.com.au
SUMMARY:Book Here Thursday 13th July Holiday Camp
DESCRIPTION:Our action-packed tennis holiday camps are filled with team games\, tennis drills\, matches\, and even the ‘Sharper Tennis Fun Quiz’! \nOur varied tennis holiday camp has something for everyone. Group warm-ups\, Shot training\, Individual Challenges\, and team games.  Will it be Swedish Netball\, Dodgeball\, Tennis Hockey\, or Skittles today? \nScore points for your team\, and make great friends along the way. Activities are divided into ability groups\, and all players aged from 5-13 are welcome. \nOur TA & ATPCA qualified coaches will keep track of individual progress\, and huge improvements can be made fast as players hit lots of balls.  Prizes are awarded for effort and achievements throughout the camps. \nRemember to bring morning tea\, a hat\, and a water bottle- We will provide all equipment and all the FUN! \nThursday 13th July 2023\n8.30am-11.30am\n$40 per child per session
URL:https://sharpertennis.com.au/event/book-here-thursday-13th-july-holiday-camp/
LOCATION:UWA Tennis Club\, 10 McGillivray Rd\, Mount Claremont\, Perth\, WA\, 6010\, Australia
ATTACH;FMTTYPE=image/jpeg:https://sharpertennis.com.au/wp-content/uploads/2021/09/UWA-Holiday-Camp.jpg
ORGANIZER;CN="Angie Harper":MAILTO:info@sharpertennis.com.au
END:VEVENT
BEGIN:VEVENT
DTSTART;TZID=Australia/Perth:20230714T090000
DTEND;TZID=Australia/Perth:20230714T140000
DTSTAMP:20260426T003528
CREATED:20230620T034038Z
LAST-MODIFIED:20230620T071311Z
UID:1436-1689325200-1689343200@sharpertennis.com.au
SUMMARY:UWA UTR-Verified Match Play: Friday 14th July 9AM - 2PM: 2 Singles Matches Best of 3 Full Sets Suitable 8-21 Years
DESCRIPTION:This event is for COMPETITIVE PLAYERS with a 2+ UTR \nWe will pair players based on their UTR/level to provide competitive matches and level-based play. \nPlayers MUST register to play- capped at 18 players only. First in first served. \nMinimum 2 x matches for all players. \nAGES: 8-21 \nDATE: Friday 14th June \nTIME: 9am-2pm \nFORMAT: BEST of THREE FULL SETS \nWITHDRAWAL: No refunds unless the event is cancelled. Parents will be contacted by text message if the event is cancelled by 7:30am on the day of the event. Games\, table tennis & more. Soft drinks will be available to purchase. \nBoost your Verified UTR Rating. All scores count towards Verified UTR. Play Hard- Play Often-Get Results! 💪👊 Please contact Angie if you have any questions. \nSIGN UP HERE
URL:https://sharpertennis.com.au/event/uwa-utr-verified-match-play-friday-14th-july-9am-2pm-2-singles-matches-best-of-3-full-sets/
LOCATION:UWA Tennis Club\, 10 McGillivray Rd\, Mount Claremont\, Perth\, WA\, 6010\, Australia
ATTACH;FMTTYPE=image/jpeg:https://sharpertennis.com.au/wp-content/uploads/2022/06/Red-Clay-Racquet.jpg
ORGANIZER;CN="Simon Harper":MAILTO:info@sharpertennis.com.au
END:VEVENT
BEGIN:VEVENT
DTSTART;TZID=Australia/Perth:20231002T083000
DTEND;TZID=Australia/Perth:20231005T113000
DTSTAMP:20260426T003528
CREATED:20230905T074841Z
LAST-MODIFIED:20230905T075003Z
UID:1485-1696235400-1696505400@sharpertennis.com.au
SUMMARY:Book Here October 2023 Holiday Camp
DESCRIPTION:Our action-packed tennis holiday camps are filled with team games\, tennis drills\, matches\, and even the ‘Sharper Tennis Fun Quiz’! \nOur varied tennis holiday camp has something for everyone. Group warm-ups\, Shot training\, Individual Challenges\, and team games.  Will it be Swedish Netball\, Dodgeball\, Tennis Hockey\, or Skittles today? \nScore points for your team\, and make great friends along the way. Activities are divided into ability groups\, and all players aged from 5-13 are welcome. \nOur TA & ATPCA qualified coaches will keep track of individual progress\, and huge improvements can be made fast as players hit lots of balls.  Prizes are awarded for effort and achievements throughout the camps. \nRemember to bring morning tea\, a hat\, and a water bottle- We will provide all equipment and all the FUN!
URL:https://sharpertennis.com.au/event/book-here-october-2023-holiday-camp/
LOCATION:UWA Tennis Club\, 10 McGillivray Rd\, Mount Claremont\, Perth\, WA\, 6010\, Australia
ATTACH;FMTTYPE=image/jpeg:https://sharpertennis.com.au/wp-content/uploads/2022/06/Holiday-Camp-Grass.jpg
ORGANIZER;CN="Angie Harper":MAILTO:info@sharpertennis.com.au
END:VEVENT
BEGIN:VEVENT
DTSTART;TZID=Australia/Perth:20240930T083000
DTEND;TZID=Australia/Perth:20241003T113000
DTSTAMP:20260426T003528
CREATED:20240916T051550Z
LAST-MODIFIED:20240916T052554Z
UID:1531-1727685000-1727955000@sharpertennis.com.au
SUMMARY:Book Here JUNIOR Summer League Pre Season Training
DESCRIPTION:High-intensity\, game-based drills\, and organised match-play sessions for competitive players preparing to take part in the TW Junior Summer Leagues.  Sharper Tennis has created a pathway at UWA TC which now fields Orange Ball through to Girls Junior State League and two Boy’s Junior State League teams\, consistently proving themselves to be one of the best development coaching programmes in WA. \nSharper Tennis League Training will focus on the following: \n*Consistency and patience\,\n*Dynamic balance\n*Stability on the run\n*Lower body and foot coordination \nCoach Simon Harper will work on the concepts of how to position opponents and move them around using the geometry of the court– the chess game of tennis if you like! \nEuropean red clay is globally recognised as THE BEST DEVELOPMENTAL SURFACE for tennis and visitors to UWA TC are very welcome! \nSessions available: \n1- 4.5 UTR\nMonday 30th September 2024 8.30-11.30am\nWednesday 2nd October 2024 8.30-11.30am \n4.5-8 UTR\nTuesday 1st October 2024 8.30-11.30am\nThursday 3rd October 2024 8.30-11.30am\n \n\n 
URL:https://sharpertennis.com.au/event/junior-summer-league-pre-season-training/
LOCATION:UWA Tennis Club\, 10 McGillivray Rd\, Mount Claremont\, Perth\, WA\, 6010\, Australia
ATTACH;FMTTYPE=image/jpeg:https://sharpertennis.com.au/wp-content/uploads/2023/02/Arden-on-Clay.jpg
ORGANIZER;CN="Angie Harper":MAILTO:info@sharpertennis.com.au
END:VEVENT
BEGIN:VEVENT
DTSTART;TZID=Australia/Perth:20241210T080000
DTEND;TZID=Australia/Perth:20241212T170000
DTSTAMP:20260426T003528
CREATED:20241114T092451Z
LAST-MODIFIED:20241114T092648Z
UID:1553-1733817600-1734022800@sharpertennis.com.au
SUMMARY:Enter the UWA Junior Challenge 2024
DESCRIPTION:UWA Junior Challenge events are BACK! \nFacilitated by Sharper Tennis at Tennis West’s Most Outstanding Large Club 2024\, these events will see matches played on both grass and the only European-style red clay courts in the State. \nWith both Singles and Doubles events\, our Junior Challenges offer great match-play experience on the best development surface in tennis\, for both newer and more experienced competitive players. \nTable Tennis\, board games and lawn games will be available for off-court fun for all the family and you are welcome to bring a picnic and enjoy our beautiful bush setting in the heart of the western suburbs of Perth just behind the HBF Stadium in Mt Claremont. \nFor more information and to register please head to the TENNIS AUSTRALIA TOURNAMENTS PAGE
URL:https://sharpertennis.com.au/event/1553/
LOCATION:UWA Tennis Club\, 10 McGillivray Rd\, Mount Claremont\, Perth\, WA\, 6010\, Australia
ATTACH;FMTTYPE=image/jpeg:https://sharpertennis.com.au/wp-content/uploads/2024/11/Sweeping-Clay.jpg
ORGANIZER;CN="Simon Harper":MAILTO:info@sharpertennis.com.au
END:VEVENT
BEGIN:VEVENT
DTSTART;TZID=Australia/Perth:20241216T083000
DTEND;TZID=Australia/Perth:20241220T113000
DTSTAMP:20260426T003528
CREATED:20241114T085708Z
LAST-MODIFIED:20241114T085708Z
UID:1549-1734337800-1734694200@sharpertennis.com.au
SUMMARY:Xmas Holiday Camp 2024
DESCRIPTION:Our action-packed tennis holiday camps at UWA Tennis Club are filled with team games\, tennis drills\, matches\, and even the ‘Sharper Tennis Fun Quiz’! \nOur varied tennis holiday camp has something for everyone. Group warm-ups\, Shot training\, Individual Challenges\, and team games. Will it be Swedish Netball\, Dodgeball\, Tennis Hockey\, or Skittles today? \nScore points for your team\, and make great friends along the way. Activities are divided into ability groups\, and all players aged from 5-13 are welcome. \nOur TA-qualified coaches will keep track of individual progress\, and huge improvements can be made fast as players hit lots of balls. Prizes are awarded for effort and achievements throughout the camps. \nRemember to bring morning tea\, a hat\, and a water bottle- We will provide all equipment and all the FUN! \nMonday 16th December- Friday 20th December\n8.30am-11.30pm\n$40 per child per session \nDiscounted price of only $180 for ALL five days!
URL:https://sharpertennis.com.au/event/xmas-holiday-camp-2024/
LOCATION:UWA Tennis Club\, 10 McGillivray Rd\, Mount Claremont\, Perth\, WA\, 6010\, Australia
ATTACH;FMTTYPE=image/jpeg:https://sharpertennis.com.au/wp-content/uploads/2022/06/Holiday-Camp-Grass.jpg
ORGANIZER;CN="Angie Harper":MAILTO:info@sharpertennis.com.au
END:VEVENT
BEGIN:VEVENT
DTSTART;TZID=Australia/Perth:20241216T083000
DTEND;TZID=Australia/Perth:20250130T113000
DTSTAMP:20260426T003528
CREATED:20241209T073457Z
LAST-MODIFIED:20241209T073541Z
UID:1563-1734337800-1738236600@sharpertennis.com.au
SUMMARY:Junior Leagues Holiday Training (1-5 UTR)
DESCRIPTION:High-intensity\, game-based drills\, and organised match-play sessions for competitive players taking part in Tennis West Junior Leagues. \nSharper Tennis League Training with Coach Simon Harper will focus on the following: \n*Consistency and patience\n*Creating clever shot selection strategies\n*Dynamic balance\n*Stability on the run\n*Lower body and foot coordination \nEuropean red clay is globally recognised as THE BEST DEVELOPMENTAL SURFACE for tennis and visitors to UWA TC are very welcome! \nThese sessions are most suited to players between 1- 5 UTR. \nMonday 16th December 8.30-11.30am\nThursday 19th December 8.30-11.30am \nMonday 6th January 8.30-11.30am\nThursday 9th January 8.30-11.30am \nMonday 13th January 8.30-11.30am\nThursday 16th January 8.30-11.30am \nMonday 20th January 8.30-11.30am\nThursday 23rd January 8.30-11.30am \nTuesday 28th January 8.30-11.30am \nMembers and Non-Members of UWA TC very welcome!\n \n\n 
URL:https://sharpertennis.com.au/event/junior-leagues-holiday-training-1-5-utr/
LOCATION:UWA Tennis Club\, 10 McGillivray Rd\, Mount Claremont\, Perth\, WA\, 6010\, Australia
ATTACH;FMTTYPE=image/jpeg:https://sharpertennis.com.au/wp-content/uploads/2021/08/UWA-Courts.jpg
ORGANIZER;CN="Angie Harper":MAILTO:info@sharpertennis.com.au
END:VEVENT
BEGIN:VEVENT
DTSTART;TZID=Australia/Perth:20251217T080000
DTEND;TZID=Australia/Perth:20251217T170000
DTSTAMP:20260426T003528
CREATED:20251217T055242Z
LAST-MODIFIED:20251217T055634Z
UID:1620-1765958400-1765990800@sharpertennis.com.au
SUMMARY:Junior Holiday League & Competition Squad Training with Coach Simon
DESCRIPTION:Level Up Your Child’s Tennis Game This Holiday Season! \n\n\nSharper Tennis is bringing high-intensity\, game-based training to rising junior competitors — led by UWA Tennis guru Coach Simon Harper.\n\n\n\nYour child will train on both GRASS & CLAY\, sharpening the skills that matter most in real match pressure:\n Consistency & patience\n Smart shot-selection strategies\n Dynamic balance\n Stability on the run\n Footwork & lower-body coordination\n\n\n\nPerfect for GREEN BALL (G1\, G2\, G3) & YELLOW BALL players (1–5 UTR) ready to compete\, improve and think like athletes.\n\n\n Four powerhouse sessions:\nWednesday 17 December: 8:30–11:30am\nThursday 18 December: 8:30–11:30am\nMonday 12th January: 8:30-11:30am\nTuesday 27th December: 8:30–11:30am\n\n UWA Tennis Centre\, Mt Claremont\n\n\n Spots are limited — grab your child’s place and let them train like the players they admire!\n\n\nBooking Link>>>> https://www.trybooking.com/DIAGB or call 0424909083
URL:https://sharpertennis.com.au/event/junior-holiday-league-competition-squad-training-with-coach-simon/
LOCATION:WA
ATTACH;FMTTYPE=image/jpeg:https://sharpertennis.com.au/wp-content/uploads/2024/12/Simon-and-boys-on-clay.jpg
END:VEVENT
END:VCALENDAR