BEGIN:VCALENDAR
VERSION:2.0
PRODID:-//Sharper Tennis Coaching Perth - ECPv6.15.20//NONSGML v1.0//EN
CALSCALE:GREGORIAN
METHOD:PUBLISH
X-ORIGINAL-URL:https://sharpertennis.com.au
X-WR-CALDESC:Events for Sharper Tennis Coaching Perth
REFRESH-INTERVAL;VALUE=DURATION:PT1H
X-Robots-Tag:noindex
X-PUBLISHED-TTL:PT1H
BEGIN:VTIMEZONE
TZID:Australia/Perth
BEGIN:STANDARD
TZOFFSETFROM:+0800
TZOFFSETTO:+0800
TZNAME:AWST
DTSTART:20210101T000000
END:STANDARD
END:VTIMEZONE
BEGIN:VEVENT
DTSTART;VALUE=DATE:20221002
DTEND;VALUE=DATE:20221003
DTSTAMP:20260426T082302
CREATED:20220912T062418Z
LAST-MODIFIED:20220912T062418Z
UID:1323-1664668800-1664755199@sharpertennis.com.au
SUMMARY:UWA Junior Challenge #1
DESCRIPTION:This ONE-DAY tennis event is suitable for BEGINNER to INTERMEDIATE players with a UTR between 1-5. Matches will be played on both RED CLAY & GRASS. \nMatches commencing from 8am. Draws will be closed as capacity is reached so please enter early to avoid disappointment. Member ID is essential- to obtain a Member ID please call 1800 752 983. \nDraws will be ROUND ROBIN with Finals.\n10/U Green Ball Singles\n12/U Yellow Ball Singles\n16/U Girls Singles\n16/U Boys Singles \nTable Tennis\, board games and lawn games will be available for off-court fun for all the family and you are welcome to bring a picnic and enjoy our beautiful bush setting in the heart of the western suburbs of Perth! \nPlease register via the EVENT PAGE
URL:https://sharpertennis.com.au/event/uwa-junior-challenge-1/
LOCATION:UWA Tennis Club\, 10 McGillivray Rd\, Mount Claremont\, Perth\, WA\, 6010\, Australia
ATTACH;FMTTYPE=image/jpeg:https://sharpertennis.com.au/wp-content/uploads/2022/09/Junior-Challenge-1.jpg
ORGANIZER;CN="Angie Harper":MAILTO:info@sharpertennis.com.au
END:VEVENT
END:VCALENDAR