BEGIN:VCALENDAR
VERSION:2.0
PRODID:-//Sharper Tennis Coaching Perth - ECPv6.15.20//NONSGML v1.0//EN
CALSCALE:GREGORIAN
METHOD:PUBLISH
X-ORIGINAL-URL:https://sharpertennis.com.au
X-WR-CALDESC:Events for Sharper Tennis Coaching Perth
REFRESH-INTERVAL;VALUE=DURATION:PT1H
X-Robots-Tag:noindex
X-PUBLISHED-TTL:PT1H
BEGIN:VTIMEZONE
TZID:Australia/Perth
BEGIN:STANDARD
TZOFFSETFROM:+0800
TZOFFSETTO:+0800
TZNAME:AWST
DTSTART:20210101T000000
END:STANDARD
END:VTIMEZONE
BEGIN:VEVENT
DTSTART;TZID=Australia/Perth:20220113T080000
DTEND;TZID=Australia/Perth:20220127T170000
DTSTAMP:20260425T224240
CREATED:20211122T055932Z
LAST-MODIFIED:20211206T030943Z
UID:1164-1642060800-1643302800@sharpertennis.com.au
SUMMARY:Game Play- Competitive Green & Yellow Players Only- Book Here
DESCRIPTION:High intensity\, game-based drills\, and organised match play sessions for competitive  Green and Yellow Ball players.\n Sharper Tennis Game Play sessions will support players learning: \n\nConsistency and patience\, \nDynamic balance\nStability on the run\nLower body and foot coordination\n\nCoach Simon Harper will work on the concepts of how to position opponents\, move them around\, and use the geometry of the court– the chess game of tennis if you like! \nThere is a reason European red clay is globally recognised as THE BEST DEVELOPMENTAL SURFACE for tennis. Sign up for a Game Play session today to find out why. Visitors to UWA TC are very welcome! \nSessions available: \nThursday 13th January 5-7pm \nThursday 20th January 5-7pm \nThursday 27th January 5-7pm \nSuitable for 2021/22 Summer Junior League GREEN & YELLOW Players only.
URL:https://sharpertennis.com.au/event/high-intensity-game-based-drills/
LOCATION:UWA Tennis Club\, 10 McGillivray Rd\, Mount Claremont\, Perth\, WA\, 6010\, Australia
ATTACH;FMTTYPE=image/jpeg:https://sharpertennis.com.au/wp-content/uploads/2021/11/UWA-Courts-July-2021.jpg
ORGANIZER;CN="Angie Harper":MAILTO:info@sharpertennis.com.au
END:VEVENT
BEGIN:VEVENT
DTSTART;TZID=Australia/Perth:20220125T080000
DTEND;TZID=Australia/Perth:20220125T170000
DTSTAMP:20260425T224240
CREATED:20211203T131542Z
LAST-MODIFIED:20211203T131542Z
UID:1178-1643097600-1643130000@sharpertennis.com.au
SUMMARY:UWA Sharper Junior Challenge Series #2- Enter Here.
DESCRIPTION:A series of three Beginner to Intermediate events for players who have had regular experience of match play. \nWe anticipate that this will be a ONE DAY tournament with matches commencing from 8am. Draws will be closed as capacity is reached so enter early to avoid disappointment. \nA TA Member ID will be required for entry which can be obtained by calling 1800 752 983. \nPLAY WILL BE CONTINUOUS SO PLAYERS WILL BE EXPECTED TO REMAIN ONSITE FOR THE DURATION OF THE TOURNAMENT. \nAll events will be Round Robin.\n#1\n10/U 1 x Fast Four- Orange Ball- Grass\n12/U 2 x FAST FOUR sets 3rd set tie break- Green Ball- Grass\n14/U & 18/U 2 x FAST FOUR sets 3rd set tie break- Yellow Ball-Red Clay \n#2\n10/U 1 x Fast Four- Orange Ball- Grass\n12/U 2 x FAST FOUR sets 3rd set tie break- Green Ball- Red Clay\n14/U 2 x FAST FOUR sets 3rd set tie break – Yellow Ball- Red Clay\n18/U 2 x FAST FOUR sets 3rd set tie break – Yellow Ball- Grass \n#3\n10/U 1 x Fast Four- Orange Ball- Grass\n12/U 2 x FAST FOUR sets 3rd set tie break- Green Ball- Red Clay\n14/U 2 x FAST FOUR sets 3rd set tie break- Yellow Ball- Grass\n18/U 2 x FAST FOUR sets 3rd set tie break- Yellow Ball- Red Clay \nRefreshments will be available from the canteen. EFTPOS is available.\nTable Tennis\, board games\, and lawn games are available for off-court fun for all the family.\nEnter online ONLY. \nSeries #2 HERE
URL:https://sharpertennis.com.au/event/uwa-sharper-junior-challenge-series-2-enter-here/
LOCATION:UWA Tennis Club\, 10 McGillivray Rd\, Mount Claremont\, Perth\, WA\, 6010\, Australia
ATTACH;FMTTYPE=image/jpeg:https://sharpertennis.com.au/wp-content/uploads/2021/12/fun-tennis-balls.jpg
ORGANIZER;CN="Angie Harper":MAILTO:info@sharpertennis.com.au
END:VEVENT
END:VCALENDAR