BEGIN:VCALENDAR
VERSION:2.0
PRODID:-//Sharper Tennis Coaching Perth - ECPv6.15.20//NONSGML v1.0//EN
CALSCALE:GREGORIAN
METHOD:PUBLISH
X-ORIGINAL-URL:https://sharpertennis.com.au
X-WR-CALDESC:Events for Sharper Tennis Coaching Perth
REFRESH-INTERVAL;VALUE=DURATION:PT1H
X-Robots-Tag:noindex
X-PUBLISHED-TTL:PT1H
BEGIN:VTIMEZONE
TZID:Australia/Perth
BEGIN:STANDARD
TZOFFSETFROM:+0800
TZOFFSETTO:+0800
TZNAME:AWST
DTSTART:20200101T000000
END:STANDARD
END:VTIMEZONE
BEGIN:VEVENT
DTSTART;TZID=Australia/Perth:20211222T083000
DTEND;TZID=Australia/Perth:20211223T113000
DTSTAMP:20260425T230934
CREATED:20210920T060008Z
LAST-MODIFIED:20211122T061302Z
UID:1133-1640161800-1640259000@sharpertennis.com.au
SUMMARY:Xmas Holiday Camp- All Abilities-Book in HERE
DESCRIPTION:Xmas Tennis Holiday Camp 8.30am-11.30am- Wednesday 22nd and Thursday 23rd December 2021 \n$33.00 incl GST per session. \nDo you need a last-minute chat with Santa? \nA secret pressie buying trip to the shops or just the chance to have a cup of tea in peace? \nOur xmas tennis holiday camp lets you crack on whilst we keep the kids entertained and is suitable for children of all abilities aged 5-13 years old. \nEvery session is action-packed with team games\, tennis drills\, matches\, and even the ‘Sharper Tennis Fun Quiz’! \nOur varied holiday programme has something for everyone. Group warm-ups\, Shot training\, Individual Challenges\, and team games.  Will it be Swedish Netball\, Dodgeball\, Tennis Hockey\, or Skittles today? \nScore points for your team\, wear your best festive hat and make great friends along the way. Activities are divided into ability groups\, and all players aged from 5-13 are welcome. \nOur TA & ATPCA qualified coaches keep track of individual progress\, and huge improvements can be made fast as players hit lots of balls.  Prizes are awarded for effort and achievements throughout the camps.
URL:https://sharpertennis.com.au/event/xmas-tennis-holiday-camp/
LOCATION:UWA Tennis Club\, 10 McGillivray Rd\, Mount Claremont\, Perth\, WA\, 6010\, Australia
ATTACH;FMTTYPE=image/jpeg:https://sharpertennis.com.au/wp-content/uploads/2021/09/UWA-Holiday-Camp.jpg
ORGANIZER;CN="Angie Harper":MAILTO:info@sharpertennis.com.au
END:VEVENT
END:VCALENDAR