BEGIN:VCALENDAR
VERSION:2.0
PRODID:-//Sharper Tennis Coaching Perth - ECPv6.15.20//NONSGML v1.0//EN
CALSCALE:GREGORIAN
METHOD:PUBLISH
X-WR-CALNAME:Sharper Tennis Coaching Perth
X-ORIGINAL-URL:https://sharpertennis.com.au
X-WR-CALDESC:Events for Sharper Tennis Coaching Perth
REFRESH-INTERVAL;VALUE=DURATION:PT1H
X-Robots-Tag:noindex
X-PUBLISHED-TTL:PT1H
BEGIN:VTIMEZONE
TZID:Australia/Perth
BEGIN:STANDARD
TZOFFSETFROM:+0800
TZOFFSETTO:+0800
TZNAME:AWST
DTSTART:20200101T000000
END:STANDARD
END:VTIMEZONE
BEGIN:VEVENT
DTSTART;TZID=Australia/Perth:20210928T090000
DTEND;TZID=Australia/Perth:20211007T120000
DTSTAMP:20260425T114903
CREATED:20210826T071059Z
LAST-MODIFIED:20210925T031435Z
UID:1068-1632819600-1633608000@sharpertennis.com.au
SUMMARY:Book Here for September/ October Holiday Camps
DESCRIPTION:Get your tennis shoes on and join us on a tennis holiday camp!\nEvery session is action-packed with team games\, tennis drills\, matches\, and even the ‘Sharper Tennis Morning Tea Quiz’! \nOur varied holiday programme has something for everyone. Group warm-ups\, Shot training\, Individual Challenges\, and team games.  Will it be Swedish Netball\, Dodgeball\, Tennis Hockey\, or Skittles today? \nScore points for your team\, and make great friends along the way. Activities are divided into ability groups\, and all players aged from 5-13 are welcome. \nOur TA & ATPCA qualified coaches keep track of individual progress\, and huge improvements can be made fast as players hit lots of balls.  Prizes are awarded for effort and achievements throughout the camps. \n \n\n 
URL:https://sharpertennis.com.au/event/holiday-camp/
LOCATION:UWA Tennis Club\, 10 McGillivray Rd\, Mount Claremont\, Perth\, WA\, 6010\, Australia
ATTACH;FMTTYPE=image/jpeg:https://sharpertennis.com.au/wp-content/uploads/2021/08/0001-scaled.jpg
ORGANIZER;CN="Angie Harper":MAILTO:info@sharpertennis.com.au
END:VEVENT
BEGIN:VEVENT
DTSTART;TZID=Australia/Perth:20210928T140000
DTEND;TZID=Australia/Perth:20211007T170000
DTSTAMP:20260425T114903
CREATED:20210826T072326Z
LAST-MODIFIED:20210928T113008Z
UID:1073-1632837600-1633626000@sharpertennis.com.au
SUMMARY:Book Here for Game Play- Holiday camps focussing on technical & tactical skills for competitive players. Various sessions.
DESCRIPTION:High intensity\, game-based drills\, and organised match play sessions for the competitive Orange\, Green\, and Yellow Ball players.\n Sharper Tennis Game Play sessions will support players learning: \n\nConsistency and patience\, \nDynamic balance\nStability on the run\nLower body and foot coordination\n\nCoach Simon Harper will work on the concepts of how to position opponents\, move them around\, and use the geometry of the court– the chess game of tennis if you like! \nThere is a reason European red clay is globally recognised as THE BEST DEVELOPMENTAL SURFACE for tennis. Sign up for a Game Play session today to find out why! \nSessions available: \nWeek 1: Tuesday 28th  & Thursday 30th September \nWeek 2: Tuesday 5th & Thursday 7th October \nOrange & Green Ball: 2-3.30pm \nYellow Ball 3.30-5pm \nSuitable for 2021/22 Summer Junior League Players only.
URL:https://sharpertennis.com.au/event/game-play-holiday-camps-focussing-on-technical-tactical-skills-for-competitive-players-various-sessions/
LOCATION:UWA Tennis Club\, 10 McGillivray Rd\, Mount Claremont\, Perth\, WA\, 6010\, Australia
ORGANIZER;CN="Angie Harper":MAILTO:info@sharpertennis.com.au
END:VEVENT
END:VCALENDAR