BEGIN:VCALENDAR
VERSION:2.0
PRODID:-//Sharper Tennis Coaching Perth - ECPv6.15.20//NONSGML v1.0//EN
CALSCALE:GREGORIAN
METHOD:PUBLISH
X-ORIGINAL-URL:https://sharpertennis.com.au
X-WR-CALDESC:Events for Sharper Tennis Coaching Perth
REFRESH-INTERVAL;VALUE=DURATION:PT1H
X-Robots-Tag:noindex
X-PUBLISHED-TTL:PT1H
BEGIN:VTIMEZONE
TZID:Australia/Perth
BEGIN:STANDARD
TZOFFSETFROM:+0800
TZOFFSETTO:+0800
TZNAME:AWST
DTSTART:20200101T000000
END:STANDARD
END:VTIMEZONE
BEGIN:VEVENT
DTSTART;TZID=Australia/Perth:20210712T090000
DTEND;TZID=Australia/Perth:20210715T120000
DTSTAMP:20260425T074312
CREATED:20210519T082001Z
LAST-MODIFIED:20210521T061114Z
UID:991-1626080400-1626350400@sharpertennis.com.au
SUMMARY:Holiday Club starts Monday 12th July!
DESCRIPTION:Get your tennis shoes on and join us on a tennis holiday camp!\nEvery session is action-packed with team games\, tennis drills\, matches\, and even the ‘Sharper Tennis Morning Tea Quiz’! \nOur varied holiday programme has something for everyone. Group warm-ups\, Shot training\, Individual Challenges\, and team games.  Will it be Swedish Netball\, Dodgeball\, Tennis Hockey or Skittles today? \nScore points for your team\, dress up for Wimbledon Whites Wednesday\, and make great friends along the way. Activities are divided into ability groups\, and all players aged from 5-13 are welcome. \nOur TA & ATPCA qualified coaches keep track of individual progress\, and huge improvements can be made fast as players hit lots of balls.  Prizes are awarded for effort and achievements throughout the week.\n \n\n  \n 
URL:https://sharpertennis.com.au/event/holiday-club/
LOCATION:UWA Tennis Club\, 10 McGillivray Rd\, Mount Claremont\, Perth\, WA\, 6010\, Australia
ORGANIZER;CN="Angie Harper":MAILTO:info@sharpertennis.com.au
END:VEVENT
END:VCALENDAR