BEGIN:VCALENDAR
VERSION:2.0
PRODID:-//Sharper Tennis Coaching Perth - ECPv6.15.20//NONSGML v1.0//EN
CALSCALE:GREGORIAN
METHOD:PUBLISH
X-WR-CALNAME:Sharper Tennis Coaching Perth
X-ORIGINAL-URL:https://sharpertennis.com.au
X-WR-CALDESC:Events for Sharper Tennis Coaching Perth
REFRESH-INTERVAL;VALUE=DURATION:PT1H
X-Robots-Tag:noindex
X-PUBLISHED-TTL:PT1H
BEGIN:VTIMEZONE
TZID:Australia/Perth
BEGIN:STANDARD
TZOFFSETFROM:+0800
TZOFFSETTO:+0800
TZNAME:AWST
DTSTART:20200101T000000
END:STANDARD
END:VTIMEZONE
BEGIN:VEVENT
DTSTART;TZID=Australia/Perth:20210706T140000
DTEND;TZID=Australia/Perth:20210706T170000
DTSTAMP:20260425T062353
CREATED:20210520T031025Z
LAST-MODIFIED:20210521T063325Z
UID:997-1625580000-1625590800@sharpertennis.com.au
SUMMARY:Game Play- Holiday camps focussing on technical & tactical skills for competitive players. Various sessions.
DESCRIPTION:High intensity\, game-based drills and organised match play sessions for competitive Green and Yellow Ball players.\n Sharper Tennis Game Play sessions will support players learning: \n\nConsistency and patience\, \nDynamic balance\nStability on the run\nLower body and foot coordination\n\nCoach Simon Harper will work on the concepts of how to position opponents\, move them around\, and use the geometry of the court– the chess game of tennis if you like! \nThere is a reason European red clay is globally recognised as THE BEST DEVELOPMENTAL SURFACE for tennis. Sign up for a Game Play session today to find out why! \nSessions available: \nWeek 1: Tuesday 6th July & Thursday 8th July \nWeek 2: Tuesday 14th July & Thursday 16th July. \nGreen Ball: 2-3.30pm \nYellow Ball 3.30-5pm\n \n\n 
URL:https://sharpertennis.com.au/event/game-play-our-new-holiday-camps-focussing-on-technical-tactical-skills-for-competitive-players/
LOCATION:UWA Tennis Club\, 10 McGillivray Rd\, Mount Claremont\, Perth\, WA\, 6010\, Australia
ORGANIZER;CN="Angie Harper":MAILTO:info@sharpertennis.com.au
END:VEVENT
END:VCALENDAR