BEGIN:VCALENDAR
VERSION:2.0
PRODID:-//Sharper Tennis Coaching Perth - ECPv6.15.20//NONSGML v1.0//EN
CALSCALE:GREGORIAN
METHOD:PUBLISH
X-WR-CALNAME:Sharper Tennis Coaching Perth
X-ORIGINAL-URL:https://sharpertennis.com.au
X-WR-CALDESC:Events for Sharper Tennis Coaching Perth
REFRESH-INTERVAL;VALUE=DURATION:PT1H
X-Robots-Tag:noindex
X-PUBLISHED-TTL:PT1H
BEGIN:VTIMEZONE
TZID:Australia/Perth
BEGIN:STANDARD
TZOFFSETFROM:+0800
TZOFFSETTO:+0800
TZNAME:AWST
DTSTART:20200101T000000
END:STANDARD
END:VTIMEZONE
BEGIN:VEVENT
DTSTART;TZID=Australia/Perth:20210111T090000
DTEND;TZID=Australia/Perth:20210115T120000
DTSTAMP:20260425T023547
CREATED:20201124T052605Z
LAST-MODIFIED:20201124T134434Z
UID:906-1610355600-1610712000@sharpertennis.com.au
SUMMARY:January Holiday Camp
DESCRIPTION:Time to get the kids off the couch and back on the courts! \nBook the kids in for our Sharper Tennis Holiday Camp and let us keep them occupied whilst improving their tennis skills or learning a new sport. We cater for ALL abilities. \nMonday- Friday  11th- 15th January 9am-12pm $40 +GST per day \nAlways lots of fun with tennis drills\, competitions and games and morning tea is included. \n 
URL:https://sharpertennis.com.au/event/january-holiday-camp-2/
LOCATION:John XXIII College\, John XXIII Avenue\, Mt Claremont\, Perth\, WA\, 6010\, Australia
ORGANIZER;CN="Angie Harper":MAILTO:info@sharpertennis.com.au
END:VEVENT
END:VCALENDAR