BEGIN:VCALENDAR
VERSION:2.0
PRODID:-//Sharper Tennis Coaching Perth - ECPv6.15.20//NONSGML v1.0//EN
CALSCALE:GREGORIAN
METHOD:PUBLISH
X-WR-CALNAME:Sharper Tennis Coaching Perth
X-ORIGINAL-URL:https://sharpertennis.com.au
X-WR-CALDESC:Events for Sharper Tennis Coaching Perth
REFRESH-INTERVAL;VALUE=DURATION:PT1H
X-Robots-Tag:noindex
X-PUBLISHED-TTL:PT1H
BEGIN:VTIMEZONE
TZID:Australia/Perth
BEGIN:STANDARD
TZOFFSETFROM:+0800
TZOFFSETTO:+0800
TZNAME:AWST
DTSTART:20190101T000000
END:STANDARD
END:VTIMEZONE
BEGIN:VEVENT
DTSTART;TZID=Australia/Perth:20201005T090000
DTEND;TZID=Australia/Perth:20201005T120000
DTSTAMP:20260425T051337
CREATED:20200909T144500Z
LAST-MODIFIED:20200909T144500Z
UID:883-1601888400-1601899200@sharpertennis.com.au
SUMMARY:Junior League Training Sessions
DESCRIPTION:Junior League Training Camps\nWhen: Monday 5th October & Wednesday 7th October\nOrange Ball 9-10.30am Green Ball 9-10.30am\nYellow Ball 10.30am-12pm\nWhere: John XXIII College\nCost: $25 +GST per session\nThese training sessions are for any competitive players who will be participating in Summer Junior League 2020/21 and will focus on drills and match play.
URL:https://sharpertennis.com.au/event/junior-league-training-sessions/
LOCATION:John XXIII College\, John XXIII Avenue\, Mt Claremont\, Perth\, WA\, 6010\, Australia
ORGANIZER;CN="Angie Harper":MAILTO:info@sharpertennis.com.au
END:VEVENT
END:VCALENDAR