BEGIN:VCALENDAR
VERSION:2.0
PRODID:-//Sharper Tennis Coaching Perth - ECPv6.15.20//NONSGML v1.0//EN
CALSCALE:GREGORIAN
METHOD:PUBLISH
X-WR-CALNAME:Sharper Tennis Coaching Perth
X-ORIGINAL-URL:https://sharpertennis.com.au
X-WR-CALDESC:Events for Sharper Tennis Coaching Perth
REFRESH-INTERVAL;VALUE=DURATION:PT1H
X-Robots-Tag:noindex
X-PUBLISHED-TTL:PT1H
BEGIN:VTIMEZONE
TZID:Australia/Perth
BEGIN:STANDARD
TZOFFSETFROM:+0800
TZOFFSETTO:+0800
TZNAME:AWST
DTSTART:20190101T000000
END:STANDARD
END:VTIMEZONE
BEGIN:VEVENT
DTSTART;TZID=Australia/Perth:20200929T090000
DTEND;TZID=Australia/Perth:20200929T120000
DTSTAMP:20260425T051328
CREATED:20200625T100036Z
LAST-MODIFIED:20200909T105102Z
UID:825-1601370000-1601380800@sharpertennis.com.au
SUMMARY:Sharper Tennis Holiday Camp!
DESCRIPTION:Book the kids in for our Sharper Tennis Holiday Camp and breathe easy! \nLet us keep them occupied whilst improving their tennis skills or learning a new sport. We cater for ALL abilities but our holiday camps are most suitable for kids aged 5-14 years old. \nTuesday 29th September to Friday 2nd October from  9am-12pm $40 + GST per day or $140 + GST for all four days. \nAlways lots of fun with tennis drills\, competitions and games and morning tea is included. \n 
URL:https://sharpertennis.com.au/event/sharper-tennis-holiday-camp-2/
LOCATION:John XXIII College\, John XXIII Avenue\, Mt Claremont\, Perth\, WA\, 6010\, Australia
ORGANIZER;CN="Angie Harper":MAILTO:info@sharpertennis.com.au
END:VEVENT
END:VCALENDAR