BEGIN:VCALENDAR
VERSION:2.0
PRODID:-//Sharper Tennis Coaching Perth - ECPv6.15.20//NONSGML v1.0//EN
CALSCALE:GREGORIAN
METHOD:PUBLISH
X-WR-CALNAME:Sharper Tennis Coaching Perth
X-ORIGINAL-URL:https://sharpertennis.com.au
X-WR-CALDESC:Events for Sharper Tennis Coaching Perth
REFRESH-INTERVAL;VALUE=DURATION:PT1H
X-Robots-Tag:noindex
X-PUBLISHED-TTL:PT1H
BEGIN:VTIMEZONE
TZID:Australia/Perth
BEGIN:STANDARD
TZOFFSETFROM:+0800
TZOFFSETTO:+0800
TZNAME:AWST
DTSTART:20190101T000000
END:STANDARD
END:VTIMEZONE
BEGIN:VEVENT
DTSTART;TZID=Australia/Perth:20200704T090000
DTEND;TZID=Australia/Perth:20200704T120000
DTSTAMP:20260425T032953
CREATED:20200624T123208Z
LAST-MODIFIED:20200624T123208Z
UID:812-1593853200-1593864000@sharpertennis.com.au
SUMMARY:July Junior Challenge
DESCRIPTION:Our termly Junior Challenge competitions are for players just starting out with competitive play and are a great opportunity to put into practise all they are learning in their regular squad sessions in a fun and relaxed environment.\nNon-members are very welcome. \nTo enter all players MUST be able to rally consistently and understand tournament rules.\nIf you are unsure please check with your coaching provider or call 0424909083. \nAll events will be Round Robin for guaranteed matchplay.\nRED: Sign in from 9am- First to 10 points\nORANGE: Sign in from 9.30am- First to 10 points\nGREEN: Sign in from 9am- 1 x FAST FOUR set\nYELLOW: Sign in from 10am- 1 x FAST FOUR set \n \n\n 
URL:https://sharpertennis.com.au/event/july-junior-challenge/
LOCATION:John XXIII College\, John XXIII Avenue\, Mt Claremont\, Perth\, WA\, 6010\, Australia
ORGANIZER;CN="Angie Harper":MAILTO:info@sharpertennis.com.au
END:VEVENT
END:VCALENDAR