BEGIN:VCALENDAR
VERSION:2.0
PRODID:-//Sharper Tennis Coaching Perth - ECPv6.15.20//NONSGML v1.0//EN
CALSCALE:GREGORIAN
METHOD:PUBLISH
X-WR-CALNAME:Sharper Tennis Coaching Perth
X-ORIGINAL-URL:https://sharpertennis.com.au
X-WR-CALDESC:Events for Sharper Tennis Coaching Perth
REFRESH-INTERVAL;VALUE=DURATION:PT1H
X-Robots-Tag:noindex
X-PUBLISHED-TTL:PT1H
BEGIN:VTIMEZONE
TZID:Australia/Perth
BEGIN:STANDARD
TZOFFSETFROM:+0800
TZOFFSETTO:+0800
TZNAME:AWST
DTSTART:20190101T000000
END:STANDARD
END:VTIMEZONE
BEGIN:VEVENT
DTSTART;TZID=Australia/Perth:20200120T090000
DTEND;TZID=Australia/Perth:20200123T120000
DTSTAMP:20260424T233828
CREATED:20191120T075817Z
LAST-MODIFIED:20191120T075817Z
UID:724-1579510800-1579780800@sharpertennis.com.au
SUMMARY:January Holiday Camp
DESCRIPTION:Time to get the kids off the couch and back on the court…. \nBook the kids in for our Sharper Tennis Holiday Camp and breathe easy! \nMonday 20th-Thursday 23rd January 9am-12pm $40 per day or $140 for all four days. Always lots of fun with tennis drills\, competitions and games and morning tea is included.
URL:https://sharpertennis.com.au/event/january-holiday-camp/
LOCATION:Wembley Downs Tennis Club\, Ednah Street\, Wembley Downs\, WA\, 6019\, Australia
ORGANIZER;CN="Angie Harper":MAILTO:info@sharpertennis.com.au
END:VEVENT
END:VCALENDAR