BEGIN:VCALENDAR
VERSION:2.0
PRODID:-//Sharper Tennis Coaching Perth - ECPv6.15.20//NONSGML v1.0//EN
CALSCALE:GREGORIAN
METHOD:PUBLISH
X-ORIGINAL-URL:https://sharpertennis.com.au
X-WR-CALDESC:Events for Sharper Tennis Coaching Perth
REFRESH-INTERVAL;VALUE=DURATION:PT1H
X-Robots-Tag:noindex
X-PUBLISHED-TTL:PT1H
BEGIN:VTIMEZONE
TZID:Australia/Perth
BEGIN:STANDARD
TZOFFSETFROM:+0800
TZOFFSETTO:+0800
TZNAME:AWST
DTSTART:20180101T000000
END:STANDARD
END:VTIMEZONE
BEGIN:VEVENT
DTSTART;TZID=Australia/Perth:20190708T090000
DTEND;TZID=Australia/Perth:20190711T120000
DTSTAMP:20260425T065326
CREATED:20190609T042017Z
LAST-MODIFIED:20190609T042140Z
UID:641-1562576400-1562846400@sharpertennis.com.au
SUMMARY:July Holiday Camp #1
DESCRIPTION:9am-12pm\nMonday 8th July- Thursday 11th July\n$40 per day or $140 for all FOUR days. \nAlways lots of fun with tennis drills and games\, multi-sports\, quizzes and more! \nA FREE healthy morning tea is provided too. Bookings essential.
URL:https://sharpertennis.com.au/event/july-holiday-camp-1/
LOCATION:Wembley Downs Tennis Club\, Ednah Street\, Wembley Downs\, WA\, 6019\, Australia
ORGANIZER;CN="Angie Harper":MAILTO:info@sharpertennis.com.au
END:VEVENT
END:VCALENDAR