BEGIN:VCALENDAR
VERSION:2.0
PRODID:-//Sharper Tennis Coaching Perth - ECPv5.0.0.1//NONSGML v1.0//EN
CALSCALE:GREGORIAN
METHOD:PUBLISH
X-WR-CALNAME:Sharper Tennis Coaching Perth
X-ORIGINAL-URL:https://sharpertennis.com.au
X-WR-CALDESC:Events for Sharper Tennis Coaching Perth
BEGIN:VTIMEZONE
TZID:Australia/Perth
BEGIN:STANDARD
TZOFFSETFROM:+0800
TZOFFSETTO:+0800
TZNAME:AWST
DTSTART:20200101T000000
END:STANDARD
END:VTIMEZONE
BEGIN:VEVENT
DTSTART;TZID=Australia/Perth:20200403T160000
DTEND;TZID=Australia/Perth:20200403T190000
DTSTAMP:20200302T043400
CREATED:20200224T045556Z
LAST-MODIFIED:20200224T045651Z
UID:751-1585929600-1585940400@sharpertennis.com.au
SUMMARY:Sharper Tennis Term 1 Junior Challenge
DESCRIPTION:Welcome to the Sharper Tennis Term 1 Junior Challenge! \nOur termly Junior Challenge competitions are for players just starting out with competitive play and are a great opportunity to put into practise all they are learning in their regular squad sessions in a fun and relaxed match play environment.\nNon-members are very welcome. \nTo enter all players MUST be able to rally consistently and understand tournament rules.\nIf you are unsure please check with your coaching provider or call 0424909083. \nAll events will be Round Robin for guaranteed matchplay.\nRED: Sign-in from 4pm- First to 10 points\nORANGE: Sign-in from 4pm- First to 10 points\nGREEN: Sign-in from 4.15pm- 1 x FAST FOUR set\nYELLOW GIRLS: Sign-in from 4.15pm- 1 x FAST FOUR set\nYELLOW BOYS: Sign-in from 4.15pm- 1 x FAST FOUR set \nThere will be a FREE sausage sizzle for entrants and extras will be available to buy at only $2.50 for any hungry parents\, carers\, siblings and tennis fans! \n
URL:https://sharpertennis.com.au/event/sharper-tennis-term-1-junior-challenge/
LOCATION:Wembley Downs Tennis Club\, Ednah Street\, Wembley Downs\, WA\, 6019\, Australia
ORGANIZER;CN="Angie%20Harper":MAILTO:info@sharpertennis.com.au
END:VEVENT
END:VCALENDAR