BEGIN:VCALENDAR
VERSION:2.0
PRODID:-//Sharper Tennis Coaching Perth - ECPv6.15.20//NONSGML v1.0//EN
CALSCALE:GREGORIAN
METHOD:PUBLISH
X-WR-CALNAME:Sharper Tennis Coaching Perth
X-ORIGINAL-URL:https://sharpertennis.com.au
X-WR-CALDESC:Events for Sharper Tennis Coaching Perth
REFRESH-INTERVAL;VALUE=DURATION:PT1H
X-Robots-Tag:noindex
X-PUBLISHED-TTL:PT1H
BEGIN:VTIMEZONE
TZID:Australia/Perth
BEGIN:STANDARD
TZOFFSETFROM:+0800
TZOFFSETTO:+0800
TZNAME:AWST
DTSTART:20180101T000000
END:STANDARD
END:VTIMEZONE
BEGIN:VEVENT
DTSTART;VALUE=DATE:20190910
DTEND;VALUE=DATE:20190911
DTSTAMP:20260424T234328
CREATED:20190527T080756Z
LAST-MODIFIED:20190527T080848Z
UID:631-1568073600-1568159999@sharpertennis.com.au
SUMMARY:Junior Summer League Nominations CLOSE TODAY!!!
DESCRIPTION:Make sure you’ve got your nomination into us by 5pm TODAY!
URL:https://sharpertennis.com.au/event/junior-summer-league-nominations-close-today/
END:VEVENT
END:VCALENDAR