BEGIN:VCALENDAR
VERSION:2.0
PRODID:-//Sharper Tennis Coaching Perth - ECPv6.15.20//NONSGML v1.0//EN
CALSCALE:GREGORIAN
METHOD:PUBLISH
X-WR-CALNAME:Sharper Tennis Coaching Perth
X-ORIGINAL-URL:https://sharpertennis.com.au
X-WR-CALDESC:Events for Sharper Tennis Coaching Perth
REFRESH-INTERVAL;VALUE=DURATION:PT1H
X-Robots-Tag:noindex
X-PUBLISHED-TTL:PT1H
BEGIN:VTIMEZONE
TZID:Australia/Perth
BEGIN:STANDARD
TZOFFSETFROM:+0800
TZOFFSETTO:+0800
TZNAME:AWST
DTSTART:20180101T000000
END:STANDARD
END:VTIMEZONE
BEGIN:VEVENT
DTSTART;TZID=Australia/Perth:20191013T080000
DTEND;TZID=Australia/Perth:20191013T170000
DTSTAMP:20260424T234303
CREATED:20190527T081415Z
LAST-MODIFIED:20190527T081633Z
UID:633-1570953600-1570986000@sharpertennis.com.au
SUMMARY:Bunnings Sausage Sizzle
DESCRIPTION:Come down to Bunnings Innaloo and support our Juniors!
URL:https://sharpertennis.com.au/event/bunnings-sausage-sizzle/
LOCATION:Bunnings Innaloo\, Corner Scarborough Beach Road &\, Odin Rd\, Innaloo\, WA\, 6018\, Australia
ATTACH;FMTTYPE=image/jpeg:https://sharpertennis.com.au/wp-content/uploads/2019/05/sausage.jpg
END:VEVENT
END:VCALENDAR